BEGIN:VCALENDAR
VERSION:2.0
PRODID:-//wp-events-plugin.com//7.2.3.1//EN
BEGIN:VEVENT
UID:11@nchid.com
DTSTART:20230727T210000Z
DTEND:20230727T230000Z
DTSTAMP:20230706T212617Z
URL:https://nchid.com/events/dhit-digital-health-happy-hour-pittsboro-nc/
SUMMARY:DHIT Digital Health Happy Hour: Pittsboro\, NC
DESCRIPTION:Connect with industry colleagues in our thriving digital health
  ecosystem at this popular networking event!\n79° West Innovation Hub\n12
 0 Mosaic Boulevard Suite 120 Pittsboro\, NC 27312\n\n\n\nJoin the Digital
  Health Institute for Transformation for our monthly Digital Health Happy
  Hour event on July 27\, 2023 from 5:00-7:00PM EST! Our event this month w
 ill be held at 79° West\, the brand new innovation hub of Innovate Carol
 ina @ MOSAIC - Chatham Park\, a live-work-learn-play community in Pittsbo
 ro\, NC near RTP.\n\nWe're pleased to be sponsored this month by Innovate
  Carolina\, UNC's university-wide initiative for innovation and entreprene
 urship.\n\nOur topic and featured speaker details will be coming soon.\n\n
 This event is a great opportunity to meet folks interested in the future o
 f healthcare and innovation in North Carolina and the world.\n\n\n
ATTACH;FMTTYPE=image/jpeg:https://nchid.com/wp-content/uploads/2023/07/htt
 ps___cdn.evbuc_.com_images_532010209_318715096193_1_original-600px.jpg
CATEGORIES:Happy Hour
LOCATION:79 Degrees West\, 120 Mosaic Blvd.\, Suite 120\, Pittsboro\, NC\, 
 27312\, United States
GEO:35.757295;-79.164509
X-APPLE-STRUCTURED-LOCATION;VALUE=URI;X-ADDRESS=120 Mosaic Blvd.\, Suite 12
 0\, Pittsboro\, NC\, 27312\, United States;X-APPLE-RADIUS=100;X-TITLE=79 D
 egrees West:geo:35.757295,-79.164509
END:VEVENT
END:VCALENDAR