BEGIN:VCALENDAR
VERSION:2.0
PRODID:-//wp-events-plugin.com//7.2.3.1//EN
BEGIN:VEVENT
UID:3@nchid.com
DTSTART;TZID=America/Costa_Rica:20230524T170000
DTEND;TZID=America/Costa_Rica:20230524T190000
DTSTAMP:20230516T000247Z
URL:https://nchid.com/events/digital-health-happy-hour-costa-rica/
SUMMARY:Digital Health Happy Hour: Costa Rica
DESCRIPTION:El DHIT happy hour es una popular serie de eventos conecta el e
 cosistema de salud digital con los principales tomadores de decisiones y l
 ideres de la industria a través de una actividad con presentación magist
 ral y redes. Los miembros de la comunidad tienen la oportunidad de partici
 par en el liderazgo de pensamiento y compartiendo ideas con los lideres de
  la salud. Esta actividad se ha replicado en muchos lugares dentro y fuera
  de Estados Unidos y por tercero vez se presentará en Costa Rica.\n\nEven
 to de acceso gratuito\, cupo limitado.\n\nLa temática será: Cibersegurid
 ad en salud presentado por Jade Tamayo\, experta en ciberseguridad de la e
 mpresa Fortinet.\n\nDHIT es una organización sin fines de lucro que líde
 r en salud digital en el Research Triangle de Carolina del Norte.\n\nNuest
 ra misión es maximizar el acceso a la salud en comunicades desatendidas y
  proveer un acceso global a los avances en salud care.
ATTACH;FMTTYPE=image/jpeg:https://nchid.com/wp-content/uploads/2023/05/htt
 ps___cdn.evbuc_.com_images_506935279_318715096193_1_original.jpeg
CATEGORIES:Networking
LOCATION:Ubicación\, Avenida Escazú Edificio Texas Tech Escazu\, San Jos
 é Province\, Costa Rica\, 10201\, Costa Rica
GEO:9.937655;-84.142899
X-APPLE-STRUCTURED-LOCATION;VALUE=URI;X-ADDRESS=Avenida Escazú Edificio Te
 xas Tech Escazu\, San José Province\, Costa Rica\, 10201\, Costa Rica;X-A
 PPLE-RADIUS=100;X-TITLE=Ubicación:geo:9.937655,-84.142899
END:VEVENT
BEGIN:VTIMEZONE
TZID:America/Costa_Rica
X-LIC-LOCATION:America/Costa_Rica
BEGIN:STANDARD
DTSTART:20220524T170000
TZOFFSETFROM:-0600
TZOFFSETTO:-0600
TZNAME:CST
END:STANDARD
END:VTIMEZONE
END:VCALENDAR