BEGIN:VCALENDAR
VERSION:2.0
PRODID:-//wp-events-plugin.com//7.2.3.1//EN
BEGIN:VEVENT
UID:5@nchid.com
DTSTART;VALUE=DATE:20230612
DTEND;VALUE=DATE:20230617
DTSTAMP:20230516T012849Z
URL:https://nchid.com/events/health-architect-masterclass/
SUMMARY:Health Architect Masterclass
DESCRIPTION:A Health Architect designs the blueprint to build better lives.
ATTACH;FMTTYPE=image/jpeg:https://nchid.com/wp-content/uploads/2023/05/iSt
 ock-1317678648-800px-e1684200521615.jpg
CATEGORIES:Masterclass
LOCATION:https://www.dhitglobal.org/health-architect-program/
END:VEVENT
END:VCALENDAR